BEGIN:VCALENDAR
VERSION:2.0
PRODID:-//Emma Romeo - ECPv6.0.10//NONSGML v1.0//EN
CALSCALE:GREGORIAN
METHOD:PUBLISH
X-WR-CALNAME:Emma Romeo
X-ORIGINAL-URL:https://www.emmaromeo.es
X-WR-CALDESC:Eventos para Emma Romeo
REFRESH-INTERVAL;VALUE=DURATION:PT1H
X-Robots-Tag:noindex
X-PUBLISHED-TTL:PT1H
BEGIN:VTIMEZONE
TZID:UTC
BEGIN:STANDARD
TZOFFSETFROM:+0000
TZOFFSETTO:+0000
TZNAME:UTC
DTSTART:20260101T000000
END:STANDARD
END:VTIMEZONE
BEGIN:VEVENT
DTSTART;TZID=UTC:20260124T093000
DTEND;TZID=UTC:20260124T140000
DTSTAMP:20260421T202815
CREATED:20251228T165344Z
LAST-MODIFIED:20251228T165914Z
UID:2050-1769247000-1769263200@www.emmaromeo.es
SUMMARY:CONSTELACIONES FAMILIARES. Dejar morir\, dejar nacer
DESCRIPTION:Dejar morir\, dejar nacer. \nEl arte de vivir con ligereza. \nSoltar lo que retienes\, \nquizás ya no tenga sentido. \n¿a qué esperas? \nEl coraje de dejar pasar\, \nvaciarte de tanto ruido. \nTocar el silencio calma el deseo sin fin. \nFantasmas del pensamiento. \nNo hay éxito ni fracaso. \nDespedirse y agradecer\, \nde la mano de la confianza\, que no del control. \nRenovados y libres\, \naparece la puerta que la vida te ofrece \ny  tu alma anhela aunque no lo sepas. \nCuando te abres al espacio\, el espacio te regala. \n 
URL:https://www.emmaromeo.es/taller/constelaciones-familiares-dejar-morir-dejar-nacer/
LOCATION:Tariqah\, Gran de Gracia\, 115\, Barcelona\, Barcelona\, 08012\, España
CATEGORIES:constelaciones,Próximos talleres
ATTACH;FMTTYPE=image/jpeg:https://www.emmaromeo.es/wp-content/uploads/2025/12/IMG_2049.jpeg
END:VEVENT
END:VCALENDAR