BEGIN:VCALENDAR
VERSION:2.0
PRODID:-//Emma Romeo - ECPv6.0.10//NONSGML v1.0//EN
CALSCALE:GREGORIAN
METHOD:PUBLISH
X-ORIGINAL-URL:https://www.emmaromeo.es
X-WR-CALDESC:Eventos para Emma Romeo
REFRESH-INTERVAL;VALUE=DURATION:PT1H
X-Robots-Tag:noindex
X-PUBLISHED-TTL:PT1H
BEGIN:VTIMEZONE
TZID:UTC
BEGIN:STANDARD
TZOFFSETFROM:+0000
TZOFFSETTO:+0000
TZNAME:UTC
DTSTART:20250101T000000
END:STANDARD
END:VTIMEZONE
BEGIN:VEVENT
DTSTART;TZID=UTC:20250208T093000
DTEND;TZID=UTC:20250208T140000
DTSTAMP:20260425T003633
CREATED:20250129T144721Z
LAST-MODIFIED:20250129T144721Z
UID:2019-1739007000-1739023200@www.emmaromeo.es
SUMMARY:CONSTELACIONES FAMILIARES. MIRAR EL TRAUMA
DESCRIPTION:En este taller vamos a abordar las constelaciones familiares previo trabajo de conciencia corporal y presencia para todo el grupo\, allí donde el cuerpo amplía la percepción de lo que la mente cree que sabe pero donde se pierde.\nLa realidad es un espacio de múltiples posibilidades para lo que hay que soltar los corsés perceptivos que nos impiden la amplitud de miras.\nNo vamos solos. Somos parte de sistemas más amplios que nos protegen\, pero también nos exigen; que nos potencian\, pero también nos atan.\nUna constelación es una herramienta valiosa para abordar dificultades y problemas. Una mirada abarcativa que contempla todo el sistema y su red de vínculos.\nTodo ser surge de la existencia \ninconsciente\, perfecto\, libre; \nToma un cuerpo físico \nY deja que las circunstancias lo completen. \nTao te Ching
URL:https://www.emmaromeo.es/taller/constelaciones-familiares-mirar-el-trauma-13/
LOCATION:Tariqah\, Gran de Gracia\, 115\, Barcelona\, Barcelona\, 08012\, España
CATEGORIES:constelaciones,Próximos talleres
ATTACH;FMTTYPE=image/jpeg:https://www.emmaromeo.es/wp-content/uploads/2025/01/IMG_1815.jpeg
END:VEVENT
END:VCALENDAR