BEGIN:VCALENDAR
VERSION:2.0
PRODID:-//Emma Romeo - ECPv6.0.10//NONSGML v1.0//EN
CALSCALE:GREGORIAN
METHOD:PUBLISH
X-ORIGINAL-URL:https://www.emmaromeo.es
X-WR-CALDESC:Eventos para Emma Romeo
REFRESH-INTERVAL;VALUE=DURATION:PT1H
X-Robots-Tag:noindex
X-PUBLISHED-TTL:PT1H
BEGIN:VTIMEZONE
TZID:UTC
BEGIN:STANDARD
TZOFFSETFROM:+0000
TZOFFSETTO:+0000
TZNAME:UTC
DTSTART:20250101T000000
END:STANDARD
END:VTIMEZONE
BEGIN:VEVENT
DTSTART;TZID=UTC:20250523T093000
DTEND;TZID=UTC:20250523T140000
DTSTAMP:20260424T153938
CREATED:20250417T110159Z
LAST-MODIFIED:20250419T102009Z
UID:2026-1747992600-1748008800@www.emmaromeo.es
SUMMARY:CONSTELACIONES FAMILIARES. Mirar el trauma
DESCRIPTION:En este taller vamos a abordar las constelaciones familiares previo trabajo de conciencia corporal y presencia para todo el grupo\, allí donde el cuerpo amplía la percepción de lo que la mente cree que sabe pero donde se pierde.\nLa realidad es un espacio de múltiples posibilidades para lo que hay que soltar los corsés perceptivos que nos impiden la amplitud de miras.\nNo vamos solos. Somos parte de sistemas más amplios que nos protegen\, pero también nos exigen; que nos potencian\, pero también nos atan.\nUna constelación es una herramienta valiosa para abordar dificultades y problemas. Una mirada abarcativa que contempla todo el sistema y su red de vínculos.\nEl trabajo de constelaciones es siempre una reflexión sobre la vida\, un acercarse a a uno mismo y al otro\, un comprender más allá de lo evidente. \nUna mirada  sobre los problemas amplia y profunda. \nun taller de constelaciones es una aproximación a la conciencia personal\, pero mas allá\, a la conciencia colectiva y más allá… a la conciencia universal donde vivimos nuestra presencia en el grupo enmudecidos ante ese tocar el alma de la vida y regresar a lo esencial allí donde el sentido y el sinsentido se encuentran sin enfrentarse.
URL:https://www.emmaromeo.es/taller/constelaciones-familiares-mirar-el-trauma-14/
LOCATION:Barcelona
CATEGORIES:constelaciones,Próximos talleres
ATTACH;FMTTYPE=image/jpeg:https://www.emmaromeo.es/wp-content/uploads/2025/04/IMG_1874.jpeg
END:VEVENT
BEGIN:VEVENT
DTSTART;TZID=UTC:20250530T170000
DTEND;TZID=UTC:20250531T140000
DTSTAMP:20260424T153938
CREATED:20250511T083305Z
LAST-MODIFIED:20250511T083305Z
UID:2032-1748624400-1748700000@www.emmaromeo.es
SUMMARY:TODO SOBRE MI PADRE
DESCRIPTION:Simbólicamente la figura paterna da sentido a la conciencia de ser diferente de la madre\, rompe la fusión con ella y se convierte en un referente externo que habla de nuestra manera de ir\, actuar y relacionarnos con el mundo exterior. \nVisitar al padre y reconocer ese origen es necesario para tomar la herencia recibida y crecer. \nLos fallos importantes que se den en esta relación y no estén procesados quedaran como memorias inconscientes a la espera de ser abordadas\, reconocidas e integradas. \nEste taller es un dar un espacio y un tiempo cuidado para indagar\, contemplar\, hacer consciente y reparar en la medida de lo posible esta relación en un reconstruirte en lo que quedó interrumpido y pendiente para el fluir genuino hacia tu propia vida y la libertad de Ser y actuar. \n30 y 31 de mayo de 2025
URL:https://www.emmaromeo.es/taller/todo-sobre-mi-padre-4/
LOCATION:Barcelona
CATEGORIES:constelaciones,Próximos talleres
ATTACH;FMTTYPE=image/png:https://www.emmaromeo.es/wp-content/uploads/2025/05/IMG_1901.png
END:VEVENT
END:VCALENDAR