BEGIN:VCALENDAR
VERSION:2.0
PRODID:-//Emma Romeo - ECPv6.0.10//NONSGML v1.0//EN
CALSCALE:GREGORIAN
METHOD:PUBLISH
X-ORIGINAL-URL:https://www.emmaromeo.es
X-WR-CALDESC:Eventos para Emma Romeo
REFRESH-INTERVAL;VALUE=DURATION:PT1H
X-Robots-Tag:noindex
X-PUBLISHED-TTL:PT1H
BEGIN:VTIMEZONE
TZID:UTC
BEGIN:STANDARD
TZOFFSETFROM:+0000
TZOFFSETTO:+0000
TZNAME:UTC
DTSTART:20260101T000000
END:STANDARD
END:VTIMEZONE
BEGIN:VEVENT
DTSTART;TZID=UTC:20260124T093000
DTEND;TZID=UTC:20260124T140000
DTSTAMP:20260421T203759
CREATED:20251228T165344Z
LAST-MODIFIED:20251228T165914Z
UID:2050-1769247000-1769263200@www.emmaromeo.es
SUMMARY:CONSTELACIONES FAMILIARES. Dejar morir\, dejar nacer
DESCRIPTION:Dejar morir\, dejar nacer. \nEl arte de vivir con ligereza. \nSoltar lo que retienes\, \nquizás ya no tenga sentido. \n¿a qué esperas? \nEl coraje de dejar pasar\, \nvaciarte de tanto ruido. \nTocar el silencio calma el deseo sin fin. \nFantasmas del pensamiento. \nNo hay éxito ni fracaso. \nDespedirse y agradecer\, \nde la mano de la confianza\, que no del control. \nRenovados y libres\, \naparece la puerta que la vida te ofrece \ny  tu alma anhela aunque no lo sepas. \nCuando te abres al espacio\, el espacio te regala. \n 
URL:https://www.emmaromeo.es/taller/constelaciones-familiares-dejar-morir-dejar-nacer/
LOCATION:Tariqah\, Gran de Gracia\, 115\, Barcelona\, Barcelona\, 08012\, España
CATEGORIES:constelaciones,Próximos talleres
ATTACH;FMTTYPE=image/jpeg:https://www.emmaromeo.es/wp-content/uploads/2025/12/IMG_2049.jpeg
END:VEVENT
BEGIN:VEVENT
DTSTART;TZID=UTC:20260130T100000
DTEND;TZID=UTC:20260131T163000
DTSTAMP:20260421T203759
CREATED:20260405T064748Z
LAST-MODIFIED:20260405T064748Z
UID:2065-1769767200-1769877000@www.emmaromeo.es
SUMMARY:TODO SOBRE MI MADRE
DESCRIPTION:Dirigido a hombres y mujeres con el impulso y/o la necesidad de revisar la relación con la propia madre y sanar heridas que impiden el propio bienestar. \nFechas próximas: 30 y 31 de enero 2026 \nInscripciones: Institut Gestalt de Barcelona. \n\nDelante de la madre a veces nuestro corazón ha quedado roto\, necesitado\, enfadado\, anhelante\, reprimido o congelado. Esta situación dificultará inevitablemente otras relaciones posteriores donde la intimidad se ponga en juego. El amor queda interrumpido. \nDar un espacio y un tiempo para reconstruir y reparar esta relación primera\, contribuye a reparar también la relación con el padre. \nRegresar a la calma del corazón y a la confianza en la propia vida donde tomar la libertad de Ser y el propio camino. \nEncontrar la medida exacta donde poder quererse. \nObjetivos:\n\n– Expresar\, reelaborar y sanar la relación difícil con la madre.\n– Descubrir el vínculo que nos une y nos separa y más allá de los problemas relacionales  encontrar un lugar personal más libre entre el deseo de independencia y el anhelo de proximidad.\n– Recomponer fragmentos rotos de un@ mism@.\n– Compartir y crecer juntos en el grupo desde el respeto\, la paciencia y la escucha.\n\nMetodología de trabajo: Atención al proceso que va surgiendo desde propuestas muy simples e invitando a la presencia en la respiración en el cuerpo\, el corazón y la mente y a un espacio- tiempo más amplio y amable: diálogo\, expresión\, reflexión y elaboración. Trabajo centrado en la terapia familiar sistémica\, las constelaciones familiares\, la arterapia y la gestalt. \nFormadora: Emma Romeo. Terapeuta sistémica\, arterapeuta gestalt\, maestra y bióloga.  Terapeuta y Formadora en Constelaciones familiares en el Institut Gestalt. Terapia individual\, parejas y grupos. Formada en mindfulness y psicomotricidad. \n\nEste taller lleva realizándose con éxito desde octubre de 2014.  Las devoluciones de los participantes indican cambios importantes\, hablando de un antes y un después.
URL:https://www.emmaromeo.es/taller/todo-sobre-mi-madre-9/
LOCATION:Institut Gestalt\, Verdi\, 94\, bajos\, Barcelona\, Barcelona\, 08012\, España
CATEGORIES:constelaciones,Próximos talleres
ATTACH;FMTTYPE=image/jpeg:https://www.emmaromeo.es/wp-content/uploads/2022/04/F1ADF1F8-F917-4F24-9191-49A566DD2AD9-768x839-1.jpeg
END:VEVENT
BEGIN:VEVENT
DTSTART;TZID=UTC:20260424T163000
DTEND;TZID=UTC:20260424T210000
DTSTAMP:20260421T203759
CREATED:20260405T063817Z
LAST-MODIFIED:20260405T064032Z
UID:2057-1777048200-1777064400@www.emmaromeo.es
SUMMARY:CONSTELACIONES FAMILIARES\, mirar el trauma\, recomponer fragmentos
DESCRIPTION:La primavera está ya llena de flores\, de aromas sutiles que nos llaman a despertar nuestros sentidos. \nEn algún lugar de tu propia historia quizás cerraste las puertas de tu corazón a algo o a alguien en tu sistema familiar\, anterior a ti\, lo hizo y lo tomaste cómo te llegó normalizándolo\, sin saber más. \nEl miedo y la necesidad de protección guardó con llave lo más frágil para preservar la vida. Luego quedó olvidada esa llave para abrir de nuevo cuando pasara la tormenta y respirar mejor. \nPero cada latido de un corazón encerrado anhela la luz del sol y la brisa que lo acaricie. \nLas constelaciones familiares\, consteles\, representes o simplemente observes el trabajo\, siempre llama a la puerta de todos los corazones presentes para que recuerden aquellas llaves que quieren ser encontradas para abrir puertas y ventanas y celebrarse. \n\nen Barcelona\n24 de abril de 16.30 a 21h
URL:https://www.emmaromeo.es/taller/2057/
LOCATION:centro médico Salud\, Mare de Deu de la Salut 78\, Barcelona
CATEGORIES:constelaciones,Próximos talleres
ATTACH;FMTTYPE=image/jpeg:https://www.emmaromeo.es/wp-content/uploads/2026/04/IMG_2084.jpeg
END:VEVENT
BEGIN:VEVENT
DTSTART;TZID=UTC:20260529T100000
DTEND;TZID=UTC:20260530T140000
DTSTAMP:20260421T203759
CREATED:20260405T064339Z
LAST-MODIFIED:20260405T064850Z
UID:2062-1780048800-1780149600@www.emmaromeo.es
SUMMARY:TODO SOBRE MI PADRE
DESCRIPTION:Simbólicamente la figura paterna da sentido a la conciencia de ser diferente de la madre\, rompe la fusión con ella y se convierte en un referente externo que habla de nuestra manera de ir\, actuar y relacionarnos con el mundo exterior. \nVisitar al padre y reconocer ese origen es necesario para tomar la herencia recibida y crecer. \nLos fallos importantes que se den en esta relación y no estén procesados quedaran como memorias inconscientes a la espera de ser abordadas\, reconocidas e integradas. \nEste taller es un dar un espacio y un tiempo cuidado para indagar\, contemplar\, hacer consciente y reparar en la medida de lo posible esta relación en un reconstruirte en lo que quedó interrumpido y pendiente para el fluir genuino hacia tu propia vida y la libertad de Ser y actuar. \n29 y 30 de mayo de 2026
URL:https://www.emmaromeo.es/taller/todo-sobre-mi-padre-5/
LOCATION:Institut Gestalt\, Verdi\, 94\, bajos\, Barcelona\, Barcelona\, 08012\, España
CATEGORIES:constelaciones,Próximos talleres
ATTACH;FMTTYPE=image/jpeg:https://www.emmaromeo.es/wp-content/uploads/2026/04/IMG_2083.jpeg
END:VEVENT
END:VCALENDAR